BEGIN:VCALENDAR
VERSION:2.0
PRODID:-//The Guidance Center - ECPv6.15.16//NONSGML v1.0//EN
CALSCALE:GREGORIAN
METHOD:PUBLISH
X-WR-CALNAME:The Guidance Center
X-ORIGINAL-URL:https://ccgcnj.org
X-WR-CALDESC:Events for The Guidance Center
REFRESH-INTERVAL;VALUE=DURATION:PT1H
X-Robots-Tag:noindex
X-PUBLISHED-TTL:PT1H
BEGIN:VTIMEZONE
TZID:America/New_York
BEGIN:DAYLIGHT
TZOFFSETFROM:-0500
TZOFFSETTO:-0400
TZNAME:EDT
DTSTART:20220313T070000
END:DAYLIGHT
BEGIN:STANDARD
TZOFFSETFROM:-0400
TZOFFSETTO:-0500
TZNAME:EST
DTSTART:20221106T060000
END:STANDARD
BEGIN:DAYLIGHT
TZOFFSETFROM:-0500
TZOFFSETTO:-0400
TZNAME:EDT
DTSTART:20230312T070000
END:DAYLIGHT
BEGIN:STANDARD
TZOFFSETFROM:-0400
TZOFFSETTO:-0500
TZNAME:EST
DTSTART:20231105T060000
END:STANDARD
BEGIN:DAYLIGHT
TZOFFSETFROM:-0500
TZOFFSETTO:-0400
TZNAME:EDT
DTSTART:20240310T070000
END:DAYLIGHT
BEGIN:STANDARD
TZOFFSETFROM:-0400
TZOFFSETTO:-0500
TZNAME:EST
DTSTART:20241103T060000
END:STANDARD
BEGIN:DAYLIGHT
TZOFFSETFROM:-0500
TZOFFSETTO:-0400
TZNAME:EDT
DTSTART:20250309T070000
END:DAYLIGHT
BEGIN:STANDARD
TZOFFSETFROM:-0400
TZOFFSETTO:-0500
TZNAME:EST
DTSTART:20251102T060000
END:STANDARD
BEGIN:DAYLIGHT
TZOFFSETFROM:-0500
TZOFFSETTO:-0400
TZNAME:EDT
DTSTART:20260308T070000
END:DAYLIGHT
BEGIN:STANDARD
TZOFFSETFROM:-0400
TZOFFSETTO:-0500
TZNAME:EST
DTSTART:20261101T060000
END:STANDARD
END:VTIMEZONE
BEGIN:VEVENT
DTSTART;TZID=America/New_York:20251023T180000
DTEND;TZID=America/New_York:20251023T210000
DTSTAMP:20260420T031526
CREATED:20250709T164428Z
LAST-MODIFIED:20251029T132449Z
UID:3277-1761242400-1761253200@ccgcnj.org
SUMMARY:Cumberland County Guidance Center Awards Dinner
DESCRIPTION:Join us as we honor John F. Scarpa as The Guidance Center’s 2025 Distinguished Community Leader!
URL:https://ccgcnj.org/event/cumberland-county-guidance-center-awards-dinner-2
LOCATION:Merighi’s Savoy Inn\, 4940 Landis Ave\, Vineland\, 08360\, United States
END:VEVENT
BEGIN:VEVENT
DTSTART;TZID=America/New_York:20250820T150000
DTEND;TZID=America/New_York:20250820T200000
DTSTAMP:20260420T031526
CREATED:20250709T164025Z
LAST-MODIFIED:20250709T164025Z
UID:3274-1755702000-1755720000@ccgcnj.org
SUMMARY:Cumberland County Guidance Center Golf Event
DESCRIPTION:Join us for our 13th annual golf event fundraiser to benefit mental health assistance and educational programs. This year’s event is a Nine & Dine: 9 holes of golfing followed by an awards dinner! Taking place at Eastlyn Golf Course. \nRegistration: 3:00 pm \nGolf Start: 4:00 pm \nAwards Dinner: 6:00 pm
URL:https://ccgcnj.org/event/cumberland-county-guidance-center-golf-event
END:VEVENT
BEGIN:VEVENT
DTSTART;VALUE=DATE:20240925
DTEND;VALUE=DATE:20240926
DTSTAMP:20260420T031526
CREATED:20240911T171133Z
LAST-MODIFIED:20240912T130253Z
UID:3155-1727222400-1727308799@ccgcnj.org
SUMMARY:Cumberland County Guidance Center Golf Tournament
DESCRIPTION:Join us for our 12th annual golf tournament fundraiser to benefit mental health assistance and educational programs. 18 holes of golfing fun\, cart\, beverages\, prizes\, lunch\, and Dinner! Taking place at Buena Vista Country Club. \nRegistration and lunch: 12 pm-1 pm \nScramble: 1 pm\, Shotgun start \nAwards Dinner: 5pm (limited space: First registered\, first served)
URL:https://ccgcnj.org/event/cumberland-county-guidance-center-golf-tournament
LOCATION:Buena Vista Country Club\, 301 Country Club Lane\, Buena\, 08310\, United States
END:VEVENT
BEGIN:VEVENT
DTSTART;TZID=America/New_York:20231026T180000
DTEND;TZID=America/New_York:20231026T210000
DTSTAMP:20260420T031526
CREATED:20230407T192906Z
LAST-MODIFIED:20230908T200609Z
UID:2942-1698343200-1698354000@ccgcnj.org
SUMMARY:Cumberland County Guidance Center Awards Dinner
DESCRIPTION:Join us as we honor Lawrence Pepper\, Jr as The Guidance Center’s 2023 Distinguished Community Leader \nGC 2023 Awards Event Invitation
URL:https://ccgcnj.org/event/cumberland-county-guidance-center-awards-dinner
LOCATION:Merighi’s Savoy Inn\, 4940 Landis Ave\, Vineland\, 08360\, United States
END:VEVENT
BEGIN:VEVENT
DTSTART;VALUE=DATE:20230921
DTEND;VALUE=DATE:20230922
DTSTAMP:20260420T031526
CREATED:20240911T180936Z
LAST-MODIFIED:20240911T180849Z
UID:2904-1695254400-1695340799@ccgcnj.org
SUMMARY:Cumberland County Golf Tournament
DESCRIPTION:Join us for our 11th annual golf tournament fundraiser to benefit mental health assistance and educational programs. 18 holes of golfing fun\, cart\, beverages\, prizes\, lunch\, and Dinner! Taking place at Buena Vista Country Club. \nRegistration and lunch: 12 pm-1 pm \nScramble: 1 pm\, Shotgun start \nAwards Dinner: 5pm (limited space: First registered\, first served)
URL:https://ccgcnj.org/event/cumberland-county-golf-tournament
LOCATION:Merighi’s Savoy Inn\, 4940 Landis Ave\, Vineland\, 08360\, United States
ATTACH;FMTTYPE=image/jpeg:https://ccgcnj.org/wp-content/uploads/2023/04/5f77df956f1e5-e1680810222231.jpg
END:VEVENT
END:VCALENDAR